Package: CGHbase Version: 1.68.0 Command: rm -rf CGHbase.buildbin-libdir && mkdir CGHbase.buildbin-libdir && /Users/biocbuild/BBS/utils/build-universal.sh CGHbase_1.68.0.tar.gz /Library/Frameworks/R.framework/Resources/bin/R CGHbase.buildbin-libdir StartedAt: 2025-05-10 14:27:53 -0400 (Sat, 10 May 2025) EndedAt: 2025-05-10 14:28:02 -0400 (Sat, 10 May 2025) EllapsedTime: 8.9 seconds RetCode: 0 Status: OK PackageFile: CGHbase_1.68.0.tgz PackageFileSize: 1.059 MiB