Package: CGEN Version: 3.46.0 Command: /home/biocbuild/bbs-3.22-bioc/R/bin/R CMD INSTALL CGEN StartedAt: 2025-11-17 16:50:50 -0500 (Mon, 17 Nov 2025) EndedAt: 2025-11-17 16:51:11 -0500 (Mon, 17 Nov 2025) EllapsedTime: 21.7 seconds RetCode: 0 Status: OK