Package: CGEN Version: 3.46.0 Command: /home/biocbuild/bbs-3.22-bioc/R/bin/R CMD build --keep-empty-dirs --no-resave-data --md5 CGEN StartedAt: 2025-11-17 20:04:30 -0500 (Mon, 17 Nov 2025) EndedAt: 2025-11-17 20:05:21 -0500 (Mon, 17 Nov 2025) EllapsedTime: 51.0 seconds RetCode: 0 Status: OK PackageFile: CGEN_3.46.0.tar.gz PackageFileSize: 985.6 KiB