Package: CGEN Version: 3.46.0 Command: /Library/Frameworks/R.framework/Resources/bin/R CMD INSTALL CGEN StartedAt: 2025-11-10 15:03:04 -0500 (Mon, 10 Nov 2025) EndedAt: 2025-11-10 15:03:05 -0500 (Mon, 10 Nov 2025) EllapsedTime: 1.3 seconds RetCode: 1 Status: ERROR