Package: CGEN Version: 3.46.0 Command: /Library/Frameworks/R.framework/Resources/bin/R CMD build --keep-empty-dirs --no-resave-data CGEN StartedAt: 2025-11-10 15:54:19 -0500 (Mon, 10 Nov 2025) EndedAt: 2025-11-10 15:54:20 -0500 (Mon, 10 Nov 2025) EllapsedTime: 1.0 seconds RetCode: 1 Status: ERROR PackageFile: None PackageFileSize: NA