Package: CFAssay Version: 1.40.0 Command: chmod a+r CFAssay -R && F:\biocbuild\bbs-3.20-bioc\R\bin\R.exe CMD build --keep-empty-dirs --no-resave-data CFAssay StartedAt: 2025-01-30 17:51:05 -0500 (Thu, 30 Jan 2025) EndedAt: 2025-01-30 17:51:22 -0500 (Thu, 30 Jan 2025) EllapsedTime: 17.2 seconds RetCode: 0 Status: OK PackageFile: CFAssay_1.40.0.tar.gz PackageFileSize: 194.1 KiB