Package: CFAssay Version: 1.40.0 Command: /home/biocbuild/bbs-3.20-bioc/R/bin/R CMD INSTALL CFAssay StartedAt: 2025-01-30 15:09:29 -0500 (Thu, 30 Jan 2025) EndedAt: 2025-01-30 15:09:37 -0500 (Thu, 30 Jan 2025) EllapsedTime: 7.4 seconds RetCode: 0 Status: OK