Package: CFAssay Version: 1.42.0 Command: /Library/Frameworks/R.framework/Resources/bin/R CMD build --keep-empty-dirs --no-resave-data CFAssay StartedAt: 2025-04-21 15:52:04 -0400 (Mon, 21 Apr 2025) EndedAt: 2025-04-21 15:52:09 -0400 (Mon, 21 Apr 2025) EllapsedTime: 5.1 seconds RetCode: 0 Status: OK PackageFile: CFAssay_1.42.0.tar.gz PackageFileSize: 322.7 KiB