Package: CEMiTool Version: 1.32.0 Command: /Library/Frameworks/R.framework/Resources/bin/R CMD INSTALL CEMiTool StartedAt: 2025-05-08 17:42:06 -0400 (Thu, 08 May 2025) EndedAt: 2025-05-08 17:42:39 -0400 (Thu, 08 May 2025) EllapsedTime: 32.2 seconds RetCode: 0 Status: OK