Package: CDI Version: 1.6.0 Command: /Library/Frameworks/R.framework/Resources/bin/R CMD INSTALL CDI StartedAt: 2025-05-22 15:35:40 -0400 (Thu, 22 May 2025) EndedAt: 2025-05-22 15:37:00 -0400 (Thu, 22 May 2025) EllapsedTime: 80.1 seconds RetCode: 0 Status: OK