Package: CDI Version: 1.6.0 Command: /Library/Frameworks/R.framework/Resources/bin/R CMD check --install=check:CDI.install-out.txt --library=/Library/Frameworks/R.framework/Resources/library --no-vignettes --timings CDI_1.6.0.tar.gz StartedAt: 2025-05-02 00:55:38 -0400 (Fri, 02 May 2025) EndedAt: 2025-05-02 01:04:46 -0400 (Fri, 02 May 2025) EllapsedTime: 548.7 seconds RetCode: 0 Status: OK CheckDir: CDI.Rcheck Warnings: 0