############################################################################## ############################################################################## ### ### Running command: ### ### rm -rf CDI.buildbin-libdir && mkdir CDI.buildbin-libdir && /Users/biocbuild/BBS/utils/build-universal.sh CDI_1.6.0.tar.gz /Library/Frameworks/R.framework/Resources/bin/R CDI.buildbin-libdir ### ############################################################################## ############################################################################## >>>>>>> >>>>>>> INSTALLATION WITH 'R CMD INSTALL --preclean --no-multiarch --library=CDI.buildbin-libdir CDI_1.6.0.tar.gz' >>>>>>> * installing *source* package ‘CDI’ ... ** this is package ‘CDI’ version ‘1.6.0’ ** using staged installation ** R ** data ** inst ** byte-compile and prepare package for lazy loading ** help *** installing help indices ** building package indices ** installing vignettes ** testing if installed package can be loaded from temporary location ** testing if installed package can be loaded from final location ** testing if installed package keeps a record of temporary installation path * DONE (CDI) chown: CDI.buildbin-libdir/CDI/LICENSE: Operation not permitted chown: CDI.buildbin-libdir/CDI/NEWS.md: Operation not permitted chown: CDI.buildbin-libdir/CDI/R/CDI: Operation not permitted chown: CDI.buildbin-libdir/CDI/R/CDI.rdx: Operation not permitted chown: CDI.buildbin-libdir/CDI/R/CDI.rdb: Operation not permitted chown: CDI.buildbin-libdir/CDI/R: Operation not permitted chown: CDI.buildbin-libdir/CDI/unitTests/test_functions.R: Operation not permitted chown: CDI.buildbin-libdir/CDI/unitTests: Operation not permitted chown: CDI.buildbin-libdir/CDI/Meta/vignette.rds: Operation not permitted chown: CDI.buildbin-libdir/CDI/Meta/data.rds: Operation not permitted chown: CDI.buildbin-libdir/CDI/Meta/links.rds: Operation not permitted chown: CDI.buildbin-libdir/CDI/Meta/features.rds: Operation not permitted chown: CDI.buildbin-libdir/CDI/Meta/nsInfo.rds: Operation not permitted chown: CDI.buildbin-libdir/CDI/Meta/package.rds: Operation not permitted chown: CDI.buildbin-libdir/CDI/Meta/hsearch.rds: Operation not permitted chown: CDI.buildbin-libdir/CDI/Meta/Rd.rds: Operation not permitted chown: CDI.buildbin-libdir/CDI/Meta: Operation not permitted chown: CDI.buildbin-libdir/CDI/NAMESPACE: Operation not permitted chown: CDI.buildbin-libdir/CDI/html/R.css: Operation not permitted chown: CDI.buildbin-libdir/CDI/html/00Index.html: Operation not permitted chown: CDI.buildbin-libdir/CDI/html: Operation not permitted chown: CDI.buildbin-libdir/CDI/DESCRIPTION: Operation not permitted chown: CDI.buildbin-libdir/CDI/INDEX: Operation not permitted chown: CDI.buildbin-libdir/CDI/doc/CDI.R: Operation not permitted chown: CDI.buildbin-libdir/CDI/doc/index.html: Operation not permitted chown: CDI.buildbin-libdir/CDI/doc/CDI.html: Operation not permitted chown: CDI.buildbin-libdir/CDI/doc/CDI.Rmd: Operation not permitted chown: CDI.buildbin-libdir/CDI/doc: Operation not permitted chown: CDI.buildbin-libdir/CDI/data/one_batch_matrix_celltype.RData: Operation not permitted chown: CDI.buildbin-libdir/CDI/data/one_batch_matrix_label_df.RData: Operation not permitted chown: CDI.buildbin-libdir/CDI/data/one_batch_matrix.rda: Operation not permitted chown: CDI.buildbin-libdir/CDI/data/one_batch_matrix_celltype.rda: Operation not permitted chown: CDI.buildbin-libdir/CDI/data/datalist: Operation not permitted chown: CDI.buildbin-libdir/CDI/data/two_batch_matrix_label_df.RData: Operation not permitted chown: CDI.buildbin-libdir/CDI/data/two_batch_matrix_celltype.RData: Operation not permitted chown: CDI.buildbin-libdir/CDI/data/two_batch_matrix_batch.RData: Operation not permitted chown: CDI.buildbin-libdir/CDI/data/two_batch_matrix.rda: Operation not permitted chown: CDI.buildbin-libdir/CDI/data: Operation not permitted chown: CDI.buildbin-libdir/CDI/help/AnIndex: Operation not permitted chown: CDI.buildbin-libdir/CDI/help/aliases.rds: Operation not permitted chown: CDI.buildbin-libdir/CDI/help/paths.rds: Operation not permitted chown: CDI.buildbin-libdir/CDI/help/CDI.rdx: Operation not permitted chown: CDI.buildbin-libdir/CDI/help/CDI.rdb: Operation not permitted chown: CDI.buildbin-libdir/CDI/help: Operation not permitted chown: CDI.buildbin-libdir/CDI: Operation not permitted