Package: CDI Version: 1.6.0 Command: rm -rf CDI.buildbin-libdir && mkdir CDI.buildbin-libdir && /Users/biocbuild/BBS/utils/build-universal.sh CDI_1.6.0.tar.gz /Library/Frameworks/R.framework/Resources/bin/R CDI.buildbin-libdir StartedAt: 2025-04-21 22:28:57 -0400 (Mon, 21 Apr 2025) EndedAt: 2025-04-21 22:29:13 -0400 (Mon, 21 Apr 2025) EllapsedTime: 15.4 seconds RetCode: 0 Status: OK PackageFile: CDI_1.6.0.tgz PackageFileSize: 2.117 MiB