Package: CDI Version: 1.4.0 Command: /Library/Frameworks/R.framework/Resources/bin/R CMD INSTALL CDI StartedAt: 2025-01-30 18:10:02 -0500 (Thu, 30 Jan 2025) EndedAt: 2025-01-30 18:10:45 -0500 (Thu, 30 Jan 2025) EllapsedTime: 42.4 seconds RetCode: 0 Status: OK