Package: CDI Version: 1.4.0 Command: /Library/Frameworks/R.framework/Resources/bin/R CMD check --install=check:CDI.install-out.txt --library=/Library/Frameworks/R.framework/Resources/library --no-vignettes --timings CDI_1.4.0.tar.gz StartedAt: 2025-01-31 13:42:12 -0500 (Fri, 31 Jan 2025) EndedAt: 2025-01-31 13:47:25 -0500 (Fri, 31 Jan 2025) EllapsedTime: 312.1 seconds RetCode: 0 Status: OK CheckDir: CDI.Rcheck Warnings: 0