Package: CDI Version: 1.6.0 Maintainer: Jiyuan Fang MaintainerEmail: jfanglovestats at gmail.com git_url: https://git.bioconductor.org/packages/CDI git_branch: RELEASE_3_21 git_last_commit: 6c5ec2f git_last_commit_date: 2025-04-15 13:17:57 -0400 (Tue, 15 Apr 2025)