Package: CCPlotR Version: 1.4.0 Command: /home/biocbuild/R/R/bin/R CMD INSTALL CCPlotR StartedAt: 2025-01-30 20:34:47 -0000 (Thu, 30 Jan 2025) EndedAt: 2025-01-30 20:35:01 -0000 (Thu, 30 Jan 2025) EllapsedTime: 14.2 seconds RetCode: 0 Status: OK