Package: CCPlotR Version: 1.4.0 Command: /home/biocbuild/R/R/bin/R CMD check --install=check:CCPlotR.install-out.txt --library=/home/biocbuild/R/R/site-library --no-vignettes --timings CCPlotR_1.4.0.tar.gz StartedAt: 2025-01-31 04:42:07 -0000 (Fri, 31 Jan 2025) EndedAt: 2025-01-31 04:43:55 -0000 (Fri, 31 Jan 2025) EllapsedTime: 108.1 seconds RetCode: 0 Status: OK CheckDir: CCPlotR.Rcheck Warnings: 0