Package: CCPlotR Version: 1.4.0 Command: /home/biocbuild/R/R/bin/R CMD build --keep-empty-dirs --no-resave-data CCPlotR StartedAt: 2025-01-30 22:23:44 -0000 (Thu, 30 Jan 2025) EndedAt: 2025-01-30 22:24:32 -0000 (Thu, 30 Jan 2025) EllapsedTime: 48.0 seconds RetCode: 0 Status: OK PackageFile: CCPlotR_1.4.0.tar.gz PackageFileSize: 3.37 MiB