Package: CCPlotR Version: 1.6.0 Command: /home/biocbuild/bbs-3.21-bioc/R/bin/R CMD INSTALL CCPlotR StartedAt: 2025-10-15 15:13:56 -0400 (Wed, 15 Oct 2025) EndedAt: 2025-10-15 15:14:08 -0400 (Wed, 15 Oct 2025) EllapsedTime: 12.4 seconds RetCode: 0 Status: OK