Package: CCPROMISE Version: 1.32.0 Command: /home/biocbuild/R/R/bin/R CMD INSTALL CCPROMISE StartedAt: 2025-01-30 20:24:18 -0000 (Thu, 30 Jan 2025) EndedAt: 2025-01-30 20:24:37 -0000 (Thu, 30 Jan 2025) EllapsedTime: 18.6 seconds RetCode: 0 Status: OK