Package: CCPROMISE Version: 1.34.0 Command: /home/biocbuild/bbs-3.21-bioc/R/bin/R CMD build --keep-empty-dirs --no-resave-data CCPROMISE StartedAt: 2025-10-15 16:36:28 -0400 (Wed, 15 Oct 2025) EndedAt: 2025-10-15 16:37:06 -0400 (Wed, 15 Oct 2025) EllapsedTime: 38.0 seconds RetCode: 0 Status: OK PackageFile: CCPROMISE_1.34.0.tar.gz PackageFileSize: 1.03 MiB