Package: CCPROMISE Version: 1.34.0 Maintainer: Xueyuan Cao MaintainerEmail: xueyuan.cao at stjude.org git_url: https://git.bioconductor.org/packages/CCPROMISE git_branch: RELEASE_3_21 git_last_commit: 56063e0 git_last_commit_date: 2025-04-15 11:06:53 -0400 (Tue, 15 Apr 2025)