Package: CCAFE Version: 1.2.0 Command: /home/biocbuild/bbs-3.22-bioc/R/bin/R CMD INSTALL CCAFE StartedAt: 2025-11-05 15:50:03 -0500 (Wed, 05 Nov 2025) EndedAt: 2025-11-05 15:50:06 -0500 (Wed, 05 Nov 2025) EllapsedTime: 3.0 seconds RetCode: 0 Status: OK