Package: CCAFE Version: 1.2.0 Command: /home/biocbuild/bbs-3.22-bioc/R/bin/R CMD build --keep-empty-dirs --no-resave-data --md5 CCAFE StartedAt: 2025-11-05 16:48:32 -0500 (Wed, 05 Nov 2025) EndedAt: 2025-11-05 16:49:46 -0500 (Wed, 05 Nov 2025) EllapsedTime: 74.1 seconds RetCode: 0 Status: OK PackageFile: CCAFE_1.2.0.tar.gz PackageFileSize: 5.681 MiB