Package: CCAFE Version: 1.2.0 Command: /Library/Frameworks/R.framework/Resources/bin/R CMD INSTALL CCAFE StartedAt: 2025-10-29 21:44:07 -0400 (Wed, 29 Oct 2025) EndedAt: 2025-10-29 21:44:09 -0400 (Wed, 29 Oct 2025) EllapsedTime: 2.3 seconds RetCode: 0 Status: OK