Package: CCAFE Version: 1.2.0 Command: /Library/Frameworks/R.framework/Resources/bin/R CMD build --keep-empty-dirs --no-resave-data CCAFE StartedAt: 2025-10-29 22:13:28 -0400 (Wed, 29 Oct 2025) EndedAt: 2025-10-29 22:13:54 -0400 (Wed, 29 Oct 2025) EllapsedTime: 26.4 seconds RetCode: 0 Status: OK PackageFile: CCAFE_1.2.0.tar.gz PackageFileSize: 5.68 MiB