Package: CCAFE Version: 1.2.0 Command: rm -rf CCAFE.buildbin-libdir && mkdir CCAFE.buildbin-libdir && /Users/biocbuild/BBS/utils/build-universal.sh CCAFE_1.2.0.tar.gz /Library/Frameworks/R.framework/Resources/bin/R CCAFE.buildbin-libdir StartedAt: 2025-10-30 05:18:30 -0400 (Thu, 30 Oct 2025) EndedAt: 2025-10-30 05:18:33 -0400 (Thu, 30 Oct 2025) EllapsedTime: 3.1 seconds RetCode: 0 Status: OK PackageFile: CCAFE_1.2.0.tgz PackageFileSize: 5.701 MiB