Package: CCAFE Version: 1.2.0 Command: /Library/Frameworks/R.framework/Resources/bin/R CMD build --keep-empty-dirs --no-resave-data CCAFE StartedAt: 2025-11-17 19:38:34 -0500 (Mon, 17 Nov 2025) EndedAt: 2025-11-17 19:39:00 -0500 (Mon, 17 Nov 2025) EllapsedTime: 26.3 seconds RetCode: 0 Status: OK PackageFile: CCAFE_1.2.0.tar.gz PackageFileSize: 5.68 MiB