Package: CBNplot Version: 1.10.0 Command: /home/biocbuild/bbs-3.22-bioc/R/bin/R CMD INSTALL CBNplot StartedAt: 2025-11-09 15:51:11 -0500 (Sun, 09 Nov 2025) EndedAt: 2025-11-09 15:51:45 -0500 (Sun, 09 Nov 2025) EllapsedTime: 33.7 seconds RetCode: 0 Status: OK