Package: CBNplot Version: 1.10.0 Command: /home/biocbuild/bbs-3.22-bioc/R/bin/R CMD check --install=check:CBNplot.install-out.txt --library=/home/biocbuild/bbs-3.22-bioc/R/site-library --timings CBNplot_1.10.0.tar.gz StartedAt: 2025-11-06 21:47:04 -0500 (Thu, 06 Nov 2025) EndedAt: 2025-11-06 21:53:11 -0500 (Thu, 06 Nov 2025) EllapsedTime: 367.4 seconds RetCode: 0 Status: OK CheckDir: CBNplot.Rcheck Warnings: 0