Package: CBNplot Version: 1.10.0 Command: /home/biocbuild/bbs-3.22-bioc/R/bin/R CMD build --keep-empty-dirs --no-resave-data --md5 CBNplot StartedAt: 2025-11-06 16:40:41 -0500 (Thu, 06 Nov 2025) EndedAt: 2025-11-06 16:41:44 -0500 (Thu, 06 Nov 2025) EllapsedTime: 63.0 seconds RetCode: 0 Status: OK PackageFile: CBNplot_1.10.0.tar.gz PackageFileSize: 1023 KiB