Package: CBNplot Version: 1.8.0 Command: /home/biocbuild/bbs-3.21-bioc/R/bin/R CMD build --keep-empty-dirs --no-resave-data CBNplot StartedAt: 2025-10-05 16:35:40 -0400 (Sun, 05 Oct 2025) EndedAt: 2025-10-05 16:36:42 -0400 (Sun, 05 Oct 2025) EllapsedTime: 62.1 seconds RetCode: 0 Status: OK PackageFile: CBNplot_1.8.0.tar.gz PackageFileSize: 987.6 KiB