Package: CBNplot Version: 1.8.0 Command: /Library/Frameworks/R.framework/Resources/bin/R CMD build --keep-empty-dirs --no-resave-data CBNplot StartedAt: 2025-10-02 20:39:38 -0400 (Thu, 02 Oct 2025) EndedAt: 2025-10-02 20:40:51 -0400 (Thu, 02 Oct 2025) EllapsedTime: 73.3 seconds RetCode: 0 Status: OK PackageFile: CBNplot_1.8.0.tar.gz PackageFileSize: 1.029 MiB