Package: CBNplot Version: 1.8.0 Command: rm -rf CBNplot.buildbin-libdir && mkdir CBNplot.buildbin-libdir && /Users/biocbuild/BBS/utils/build-universal.sh CBNplot_1.8.0.tar.gz /Library/Frameworks/R.framework/Resources/bin/R CBNplot.buildbin-libdir StartedAt: 2025-10-04 17:14:02 -0400 (Sat, 04 Oct 2025) EndedAt: 2025-10-04 17:14:41 -0400 (Sat, 04 Oct 2025) EllapsedTime: 38.4 seconds RetCode: 0 Status: OK PackageFile: CBNplot_1.8.0.tgz PackageFileSize: 1.167 MiB