Package: CBN2Path Version: 1.0.0 Command: /home/biocbuild/bbs-3.22-bioc/R/bin/R CMD INSTALL CBN2Path StartedAt: 2025-11-05 15:35:56 -0500 (Wed, 05 Nov 2025) EndedAt: 2025-11-05 15:36:36 -0500 (Wed, 05 Nov 2025) EllapsedTime: 39.2 seconds RetCode: 0 Status: OK