Package: CBN2Path Version: 1.0.0 Command: /Library/Frameworks/R.framework/Resources/bin/R CMD INSTALL CBN2Path StartedAt: 2025-11-10 15:14:06 -0500 (Mon, 10 Nov 2025) EndedAt: 2025-11-10 15:14:23 -0500 (Mon, 10 Nov 2025) EllapsedTime: 16.8 seconds RetCode: 0 Status: OK