Package: CBN2Path Version: 1.0.0 Command: rm -rf CBN2Path.buildbin-libdir && mkdir CBN2Path.buildbin-libdir && /Users/biocbuild/BBS/utils/build-universal.sh CBN2Path_1.0.0.tar.gz /Library/Frameworks/R.framework/Resources/bin/R CBN2Path.buildbin-libdir StartedAt: 2025-11-10 23:13:51 -0500 (Mon, 10 Nov 2025) EndedAt: 2025-11-10 23:14:12 -0500 (Mon, 10 Nov 2025) EllapsedTime: 20.4 seconds RetCode: 0 Status: OK PackageFile: CBN2Path_1.0.0.tgz PackageFileSize: 2.657 MiB