Package: CBEA Version: 1.6.0 Command: /home/biocbuild/R/R/bin/R CMD build --keep-empty-dirs --no-resave-data CBEA StartedAt: 2025-01-30 22:22:22 -0000 (Thu, 30 Jan 2025) EndedAt: 2025-01-30 22:23:44 -0000 (Thu, 30 Jan 2025) EllapsedTime: 82.0 seconds RetCode: 0 Status: OK PackageFile: CBEA_1.6.0.tar.gz PackageFileSize: 2.152 MiB