Package: CATALYST Version: 1.32.0 Command: chmod a+r CATALYST -R && E:\biocbuild\bbs-3.21-bioc\R\bin\R.exe CMD build --keep-empty-dirs --no-resave-data CATALYST StartedAt: 2025-08-14 17:50:42 -0400 (Thu, 14 Aug 2025) EndedAt: 2025-08-14 17:59:31 -0400 (Thu, 14 Aug 2025) EllapsedTime: 528.5 seconds RetCode: 0 Status: OK PackageFile: CATALYST_1.32.0.tar.gz PackageFileSize: 6.751 MiB