Package: CARNIVAL Version: 2.18.0 Command: /home/biocbuild/R/R/bin/R CMD INSTALL CARNIVAL StartedAt: 2025-04-21 20:19:40 -0000 (Mon, 21 Apr 2025) EndedAt: 2025-04-21 20:19:48 -0000 (Mon, 21 Apr 2025) EllapsedTime: 7.9 seconds RetCode: 0 Status: OK