Package: CARNIVAL Version: 2.18.0 Command: /Library/Frameworks/R.framework/Resources/bin/R CMD check --install=check:CARNIVAL.install-out.txt --library=/Library/Frameworks/R.framework/Resources/library --no-vignettes --timings CARNIVAL_2.18.0.tar.gz StartedAt: 2025-04-21 18:30:49 -0400 (Mon, 21 Apr 2025) EndedAt: 2025-04-21 18:31:09 -0400 (Mon, 21 Apr 2025) EllapsedTime: 20.3 seconds RetCode: 0 Status: OK CheckDir: CARNIVAL.Rcheck Warnings: 0