Package: CARNIVAL Version: 2.18.0 Command: /Library/Frameworks/R.framework/Resources/bin/R CMD build --keep-empty-dirs --no-resave-data CARNIVAL StartedAt: 2025-04-21 15:49:17 -0400 (Mon, 21 Apr 2025) EndedAt: 2025-04-21 15:49:22 -0400 (Mon, 21 Apr 2025) EllapsedTime: 5.1 seconds RetCode: 0 Status: OK PackageFile: CARNIVAL_2.18.0.tar.gz PackageFileSize: 2.047 MiB