Package: CARNIVAL Version: 2.18.0 Command: rm -rf CARNIVAL.buildbin-libdir && mkdir CARNIVAL.buildbin-libdir && /Users/biocbuild/BBS/utils/build-universal.sh CARNIVAL_2.18.0.tar.gz /Library/Frameworks/R.framework/Resources/bin/R CARNIVAL.buildbin-libdir StartedAt: 2025-04-21 22:28:42 -0400 (Mon, 21 Apr 2025) EndedAt: 2025-04-21 22:28:45 -0400 (Mon, 21 Apr 2025) EllapsedTime: 3.1 seconds RetCode: 0 Status: OK PackageFile: CARNIVAL_2.18.0.tgz PackageFileSize: 417.2 KiB