Package: CARDspa Version: 1.2.0 Command: /home/biocbuild/bbs-3.22-bioc/R/bin/R CMD INSTALL CARDspa StartedAt: 2025-11-16 15:34:40 -0500 (Sun, 16 Nov 2025) EndedAt: 2025-11-16 15:35:43 -0500 (Sun, 16 Nov 2025) EllapsedTime: 63.4 seconds RetCode: 0 Status: OK