Package: CARDspa Version: 1.2.0 Command: /Library/Frameworks/R.framework/Resources/bin/R CMD INSTALL CARDspa StartedAt: 2025-11-10 15:18:38 -0500 (Mon, 10 Nov 2025) EndedAt: 2025-11-10 15:18:58 -0500 (Mon, 10 Nov 2025) EllapsedTime: 20.5 seconds RetCode: 0 Status: OK