Package: CARDspa Version: 1.2.0 Command: /Library/Frameworks/R.framework/Resources/bin/R CMD build --keep-empty-dirs --no-resave-data CARDspa StartedAt: 2025-11-10 15:50:38 -0500 (Mon, 10 Nov 2025) EndedAt: 2025-11-10 15:53:40 -0500 (Mon, 10 Nov 2025) EllapsedTime: 182.0 seconds RetCode: 0 Status: OK PackageFile: CARDspa_1.2.0.tar.gz PackageFileSize: 4.53 MiB