Package: CARDspa Version: 1.2.0 Command: rm -rf CARDspa.buildbin-libdir && mkdir CARDspa.buildbin-libdir && /Users/biocbuild/BBS/utils/build-universal.sh CARDspa_1.2.0.tar.gz /Library/Frameworks/R.framework/Resources/bin/R CARDspa.buildbin-libdir StartedAt: 2025-11-10 23:13:41 -0500 (Mon, 10 Nov 2025) EndedAt: 2025-11-10 23:14:05 -0500 (Mon, 10 Nov 2025) EllapsedTime: 23.4 seconds RetCode: 0 Status: OK PackageFile: CARDspa_1.2.0.tgz PackageFileSize: 4.918 MiB