Package: CAMERA
Version: 1.62.0
Command: /home/biocbuild/R/R/bin/R CMD check --install=check:CAMERA.install-out.txt --library=/home/biocbuild/R/R/site-library --no-vignettes --timings CAMERA_1.62.0.tar.gz
StartedAt: 2025-02-11 04:29:35 -0000 (Tue, 11 Feb 2025)
EndedAt: 2025-02-11 04:44:23 -0000 (Tue, 11 Feb 2025)
EllapsedTime: 887.7 seconds
RetCode: 0
Status: WARNINGS
CheckDir: CAMERA.Rcheck
Warnings: 1