Package: CAGEr Version: 2.12.0 Command: chmod a+r CAGEr -R && F:\biocbuild\bbs-3.20-bioc\R\bin\R.exe CMD build --keep-empty-dirs --no-resave-data CAGEr StartedAt: 2025-01-30 17:42:58 -0500 (Thu, 30 Jan 2025) EndedAt: 2025-01-30 17:48:05 -0500 (Thu, 30 Jan 2025) EllapsedTime: 307.2 seconds RetCode: 0 Status: OK PackageFile: CAGEr_2.12.0.tar.gz PackageFileSize: 1.579 MiB